Package: SpatialOmicsOverlay Version: 1.6.0 Command: /Library/Frameworks/R.framework/Resources/bin/R CMD check --install=check:SpatialOmicsOverlay.install-out.txt --library=/Library/Frameworks/R.framework/Resources/library --no-vignettes --timings SpatialOmicsOverlay_1.6.0.tar.gz StartedAt: 2025-02-01 10:18:22 -0500 (Sat, 01 Feb 2025) EndedAt: 2025-02-01 10:27:16 -0500 (Sat, 01 Feb 2025) EllapsedTime: 534.0 seconds RetCode: 0 Status: OK CheckDir: SpatialOmicsOverlay.Rcheck Warnings: 0