Package: SpatialOmicsOverlay Version: 1.6.0 Command: rm -rf SpatialOmicsOverlay.buildbin-libdir && mkdir SpatialOmicsOverlay.buildbin-libdir && /Users/biocbuild/BBS/utils/build-universal.sh SpatialOmicsOverlay_1.6.0.tar.gz /Library/Frameworks/R.framework/Resources/bin/R SpatialOmicsOverlay.buildbin-libdir StartedAt: 2025-02-01 17:01:04 -0500 (Sat, 01 Feb 2025) EndedAt: 2025-02-01 17:01:45 -0500 (Sat, 01 Feb 2025) EllapsedTime: 40.8 seconds RetCode: 0 Status: OK PackageFile: SpatialOmicsOverlay_1.6.0.tgz PackageFileSize: 4.673 MiB