Package: SpatialFeatureExperiment Version: 1.10.1 Command: /home/biocbuild/bbs-3.21-bioc/R/bin/R CMD INSTALL SpatialFeatureExperiment StartedAt: 2025-10-05 15:36:33 -0400 (Sun, 05 Oct 2025) EndedAt: 2025-10-05 15:37:29 -0400 (Sun, 05 Oct 2025) EllapsedTime: 56.2 seconds RetCode: 0 Status: OK