Package: SpatialExperimentIO Version: 1.2.0 Command: /home/biocbuild/bbs-3.22-bioc/R/bin/R CMD INSTALL SpatialExperimentIO StartedAt: 2025-11-16 15:52:45 -0500 (Sun, 16 Nov 2025) EndedAt: 2025-11-16 15:53:18 -0500 (Sun, 16 Nov 2025) EllapsedTime: 33.5 seconds RetCode: 0 Status: OK