Package: SpatialExperimentIO Version: 1.2.0 Command: /home/biocbuild/bbs-3.22-bioc/R/bin/R CMD check --install=check:SpatialExperimentIO.install-out.txt --library=/home/biocbuild/bbs-3.22-bioc/R/site-library --timings SpatialExperimentIO_1.2.0.tar.gz StartedAt: 2025-11-17 04:31:20 -0500 (Mon, 17 Nov 2025) EndedAt: 2025-11-17 04:35:16 -0500 (Mon, 17 Nov 2025) EllapsedTime: 236.1 seconds RetCode: 0 Status: OK CheckDir: SpatialExperimentIO.Rcheck Warnings: 0