Package: SpatialExperimentIO Version: 1.2.0 Command: /home/biocbuild/bbs-3.22-bioc/R/bin/R CMD build --keep-empty-dirs --no-resave-data --md5 SpatialExperimentIO StartedAt: 2025-11-16 20:24:31 -0500 (Sun, 16 Nov 2025) EndedAt: 2025-11-16 20:25:15 -0500 (Sun, 16 Nov 2025) EllapsedTime: 44.0 seconds RetCode: 0 Status: OK PackageFile: SpatialExperimentIO_1.2.0.tar.gz PackageFileSize: 610.1 KiB