Package: SpatialExperimentIO Version: 1.0.0 Command: /home/biocbuild/bbs-3.21-bioc/R/bin/R CMD INSTALL SpatialExperimentIO StartedAt: 2025-10-05 15:49:33 -0400 (Sun, 05 Oct 2025) EndedAt: 2025-10-05 15:50:02 -0400 (Sun, 05 Oct 2025) EllapsedTime: 29.4 seconds RetCode: 0 Status: OK