Package: SpatialExperimentIO Version: 1.0.0 Command: /Library/Frameworks/R.framework/Resources/bin/R CMD INSTALL SpatialExperimentIO StartedAt: 2025-10-13 16:29:12 -0400 (Mon, 13 Oct 2025) EndedAt: 2025-10-13 16:30:18 -0400 (Mon, 13 Oct 2025) EllapsedTime: 66.3 seconds RetCode: 0 Status: OK