Package: SpatialExperimentIO Version: 1.0.0 Command: /Library/Frameworks/R.framework/Resources/bin/R CMD build --keep-empty-dirs --no-resave-data SpatialExperimentIO StartedAt: 2025-10-13 22:52:18 -0400 (Mon, 13 Oct 2025) EndedAt: 2025-10-13 22:54:08 -0400 (Mon, 13 Oct 2025) EllapsedTime: 110.2 seconds RetCode: 0 Status: OK PackageFile: SpatialExperimentIO_1.0.0.tar.gz PackageFileSize: 608 KiB