Package: SpatialExperimentIO Version: 1.0.0 Command: rm -rf SpatialExperimentIO.buildbin-libdir && mkdir SpatialExperimentIO.buildbin-libdir && /Users/biocbuild/BBS/utils/build-universal.sh SpatialExperimentIO_1.0.0.tar.gz /Library/Frameworks/R.framework/Resources/bin/R SpatialExperimentIO.buildbin-libdir StartedAt: 2025-10-14 14:51:24 -0400 (Tue, 14 Oct 2025) EndedAt: 2025-10-14 14:52:35 -0400 (Tue, 14 Oct 2025) EllapsedTime: 71.2 seconds RetCode: 0 Status: OK PackageFile: SpatialExperimentIO_1.0.0.tgz PackageFileSize: 648.3 KiB