Package: SpatialExperimentIO Version: 1.0.0 Command: /Library/Frameworks/R.framework/Resources/bin/R CMD INSTALL SpatialExperimentIO StartedAt: 2025-04-21 15:37:38 -0400 (Mon, 21 Apr 2025) EndedAt: 2025-04-21 15:38:21 -0400 (Mon, 21 Apr 2025) EllapsedTime: 42.4 seconds RetCode: 0 Status: OK