Package: SpatialExperimentIO Version: 1.0.0 Command: /Library/Frameworks/R.framework/Resources/bin/R CMD INSTALL SpatialExperimentIO StartedAt: 2025-09-29 18:01:02 -0400 (Mon, 29 Sep 2025) EndedAt: 2025-09-29 18:01:39 -0400 (Mon, 29 Sep 2025) EllapsedTime: 36.7 seconds RetCode: 0 Status: OK