Package: SpatialExperiment Version: 1.18.1 Command: /Library/Frameworks/R.framework/Resources/bin/R CMD check --install=check:SpatialExperiment.install-out.txt --library=/Library/Frameworks/R.framework/Resources/library --no-vignettes --timings SpatialExperiment_1.18.1.tar.gz StartedAt: 2025-05-23 10:22:47 -0400 (Fri, 23 May 2025) EndedAt: 2025-05-23 10:30:40 -0400 (Fri, 23 May 2025) EllapsedTime: 472.6 seconds RetCode: 0 Status: OK CheckDir: SpatialExperiment.Rcheck Warnings: 0