Package: SpatialExperiment Version: 1.18.1 Command: /Library/Frameworks/R.framework/Resources/bin/R CMD build --keep-empty-dirs --no-resave-data SpatialExperiment StartedAt: 2025-05-22 22:43:08 -0400 (Thu, 22 May 2025) EndedAt: 2025-05-22 22:45:22 -0400 (Thu, 22 May 2025) EllapsedTime: 133.9 seconds RetCode: 0 Status: OK PackageFile: SpatialExperiment_1.18.1.tar.gz PackageFileSize: 5.688 MiB