Package: SpatialExperiment Version: 1.18.1 Command: rm -rf SpatialExperiment.buildbin-libdir && mkdir SpatialExperiment.buildbin-libdir && /Users/biocbuild/BBS/utils/build-universal.sh SpatialExperiment_1.18.1.tar.gz /Library/Frameworks/R.framework/Resources/bin/R SpatialExperiment.buildbin-libdir StartedAt: 2025-05-23 13:56:49 -0400 (Fri, 23 May 2025) EndedAt: 2025-05-23 13:58:08 -0400 (Fri, 23 May 2025) EllapsedTime: 79.6 seconds RetCode: 0 Status: OK PackageFile: SpatialExperiment_1.18.1.tgz PackageFileSize: 6.01 MiB