Package: SpatialDecon Version: 1.18.0 Maintainer: Maddy Griswold MaintainerEmail: mgriswold at nanostring.com git_url: https://git.bioconductor.org/packages/SpatialDecon git_branch: RELEASE_3_21 git_last_commit: 8fa5b25 git_last_commit_date: 2025-04-15 12:11:46 -0400 (Tue, 15 Apr 2025)