Package: SparseSignatures Version: 2.16.0 Command: F:\biocbuild\bbs-3.20-bioc\R\bin\R.exe CMD INSTALL SparseSignatures StartedAt: 2025-01-30 16:13:28 -0500 (Thu, 30 Jan 2025) EndedAt: 2025-01-30 16:14:20 -0500 (Thu, 30 Jan 2025) EllapsedTime: 52.5 seconds RetCode: 0 Status: OK