Package: SparseSignatures Version: 2.18.0 Command: /home/biocbuild/bbs-3.21-bioc/R/bin/R CMD INSTALL SparseSignatures StartedAt: 2025-10-01 15:30:26 -0400 (Wed, 01 Oct 2025) EndedAt: 2025-10-01 15:31:06 -0400 (Wed, 01 Oct 2025) EllapsedTime: 39.1 seconds RetCode: 0 Status: OK