Package: SparseSignatures Version: 2.18.0 Command: /home/biocbuild/bbs-3.21-bioc/R/bin/R CMD build --keep-empty-dirs --no-resave-data SparseSignatures StartedAt: 2025-10-01 20:06:36 -0400 (Wed, 01 Oct 2025) EndedAt: 2025-10-01 20:10:20 -0400 (Wed, 01 Oct 2025) EllapsedTime: 224.2 seconds RetCode: 0 Status: OK PackageFile: SparseSignatures_2.18.0.tar.gz PackageFileSize: 1.469 MiB