Package: SparseSignatures Version: 2.18.0 Command: /Library/Frameworks/R.framework/Resources/bin/R CMD INSTALL SparseSignatures StartedAt: 2025-05-19 15:50:03 -0400 (Mon, 19 May 2025) EndedAt: 2025-05-19 15:51:23 -0400 (Mon, 19 May 2025) EllapsedTime: 79.9 seconds RetCode: 0 Status: OK