Package: SparseSignatures Version: 2.18.0 Command: /Library/Frameworks/R.framework/Resources/bin/R CMD build --keep-empty-dirs --no-resave-data SparseSignatures StartedAt: 2025-05-22 22:41:44 -0400 (Thu, 22 May 2025) EndedAt: 2025-05-22 22:51:44 -0400 (Thu, 22 May 2025) EllapsedTime: 600.5 seconds RetCode: 0 Status: OK PackageFile: SparseSignatures_2.18.0.tar.gz PackageFileSize: 1.462 MiB