Package: SparseSignatures Version: 2.18.0 Command: rm -rf SparseSignatures.buildbin-libdir && mkdir SparseSignatures.buildbin-libdir && /Users/biocbuild/BBS/utils/build-universal.sh SparseSignatures_2.18.0.tar.gz /Library/Frameworks/R.framework/Resources/bin/R SparseSignatures.buildbin-libdir StartedAt: 2025-04-22 01:10:48 -0400 (Tue, 22 Apr 2025) EndedAt: 2025-04-22 01:11:42 -0400 (Tue, 22 Apr 2025) EllapsedTime: 54.6 seconds RetCode: 0 Status: OK PackageFile: SparseSignatures_2.18.0.tgz PackageFileSize: 1.59 MiB