Package: SparseSignatures Version: 2.16.0 Command: /Library/Frameworks/R.framework/Resources/bin/R CMD INSTALL SparseSignatures StartedAt: 2025-01-30 16:23:06 -0500 (Thu, 30 Jan 2025) EndedAt: 2025-01-30 16:23:53 -0500 (Thu, 30 Jan 2025) EllapsedTime: 46.6 seconds RetCode: 0 Status: OK