Package: SparseSignatures Version: 2.16.0 Command: /Library/Frameworks/R.framework/Resources/bin/R CMD check --install=check:SparseSignatures.install-out.txt --library=/Library/Frameworks/R.framework/Resources/library --no-vignettes --timings SparseSignatures_2.16.0.tar.gz StartedAt: 2025-02-01 10:08:15 -0500 (Sat, 01 Feb 2025) EndedAt: 2025-02-01 10:24:17 -0500 (Sat, 01 Feb 2025) EllapsedTime: 962.1 seconds RetCode: 0 Status: OK CheckDir: SparseSignatures.Rcheck Warnings: 0