Package: SparseSignatures Version: 2.18.0 Command: /Library/Frameworks/R.framework/Resources/bin/R CMD build --keep-empty-dirs --no-resave-data SparseSignatures StartedAt: 2025-07-22 09:15:29 -0400 (Tue, 22 Jul 2025) EndedAt: 2025-07-22 09:20:05 -0400 (Tue, 22 Jul 2025) EllapsedTime: 276.5 seconds RetCode: 0 Status: OK PackageFile: SparseSignatures_2.18.0.tar.gz PackageFileSize: 1.462 MiB