Package: SparseSignatures Version: 2.16.0 Command: rm -rf SparseSignatures.buildbin-libdir && mkdir SparseSignatures.buildbin-libdir && /Users/biocbuild/BBS/utils/build-universal.sh SparseSignatures_2.16.0.tar.gz /Library/Frameworks/R.framework/Resources/bin/R SparseSignatures.buildbin-libdir StartedAt: 2025-02-01 17:00:26 -0500 (Sat, 01 Feb 2025) EndedAt: 2025-02-01 17:01:17 -0500 (Sat, 01 Feb 2025) EllapsedTime: 51.0 seconds RetCode: 0 Status: OK PackageFile: SparseSignatures_2.16.0.tgz PackageFileSize: 1.588 MiB