Package: Spaniel Version: 1.22.0 Command: /Library/Frameworks/R.framework/Resources/bin/R CMD INSTALL Spaniel StartedAt: 2025-04-21 15:46:04 -0400 (Mon, 21 Apr 2025) EndedAt: 2025-04-21 15:46:58 -0400 (Mon, 21 Apr 2025) EllapsedTime: 53.5 seconds RetCode: 0 Status: OK