Package: SpaceTrooper Version: 1.0.0 Command: /home/biocbuild/bbs-3.22-bioc/R/bin/R CMD INSTALL SpaceTrooper StartedAt: 2025-10-31 16:05:11 -0400 (Fri, 31 Oct 2025) EndedAt: 2025-10-31 16:05:49 -0400 (Fri, 31 Oct 2025) EllapsedTime: 38.7 seconds RetCode: 0 Status: OK