Package: SpaceTrooper Version: 1.0.0 Command: /home/biocbuild/bbs-3.22-bioc/R/bin/R CMD build --keep-empty-dirs --no-resave-data --md5 SpaceTrooper StartedAt: 2025-10-31 20:21:36 -0400 (Fri, 31 Oct 2025) EndedAt: 2025-10-31 20:23:08 -0400 (Fri, 31 Oct 2025) EllapsedTime: 92.1 seconds RetCode: 0 Status: OK PackageFile: SpaceTrooper_1.0.0.tar.gz PackageFileSize: 4.504 MiB