Package: SpacePAC Version: 1.46.0 Command: /Library/Frameworks/R.framework/Resources/bin/R CMD build --keep-empty-dirs --no-resave-data SpacePAC StartedAt: 2025-05-08 22:33:37 -0400 (Thu, 08 May 2025) EndedAt: 2025-05-08 22:36:00 -0400 (Thu, 08 May 2025) EllapsedTime: 142.5 seconds RetCode: 0 Status: OK PackageFile: SpacePAC_1.46.0.tar.gz PackageFileSize: 1.889 MiB