Package: SpacePAC Version: 1.46.0 Command: /home/biocbuild/R/R/bin/R CMD check --install=check:SpacePAC.install-out.txt --library=/home/biocbuild/R/R/site-library --no-vignettes --timings SpacePAC_1.46.0.tar.gz StartedAt: 2025-05-09 14:01:24 -0000 (Fri, 09 May 2025) EndedAt: 2025-05-09 14:03:52 -0000 (Fri, 09 May 2025) EllapsedTime: 148.1 seconds RetCode: 0 Status: OK CheckDir: SpacePAC.Rcheck Warnings: 0