Package: SpacePAC Version: 1.46.0 Command: /home/biocbuild/R/R/bin/R CMD build --keep-empty-dirs --no-resave-data SpacePAC StartedAt: 2025-05-09 04:35:30 -0000 (Fri, 09 May 2025) EndedAt: 2025-05-09 04:36:55 -0000 (Fri, 09 May 2025) EllapsedTime: 85.1 seconds RetCode: 0 Status: OK PackageFile: SpacePAC_1.46.0.tar.gz PackageFileSize: 1.876 MiB