Package: SpacePAC Version: 1.46.0 Command: /Library/Frameworks/R.framework/Resources/bin/R CMD check --install=check:SpacePAC.install-out.txt --library=/Library/Frameworks/R.framework/Resources/library --no-vignettes --timings SpacePAC_1.46.0.tar.gz StartedAt: 2025-04-21 21:47:39 -0400 (Mon, 21 Apr 2025) EndedAt: 2025-04-21 21:48:23 -0400 (Mon, 21 Apr 2025) EllapsedTime: 44.5 seconds RetCode: 0 Status: OK CheckDir: SpacePAC.Rcheck Warnings: 0