Package: SpacePAC Version: 1.46.0 Command: rm -rf SpacePAC.buildbin-libdir && mkdir SpacePAC.buildbin-libdir && /Users/biocbuild/BBS/utils/build-universal.sh SpacePAC_1.46.0.tar.gz /Library/Frameworks/R.framework/Resources/bin/R SpacePAC.buildbin-libdir StartedAt: 2025-04-21 22:53:23 -0400 (Mon, 21 Apr 2025) EndedAt: 2025-04-21 22:53:30 -0400 (Mon, 21 Apr 2025) EllapsedTime: 7.2 seconds RetCode: 0 Status: OK PackageFile: SpacePAC_1.46.0.tgz PackageFileSize: 1.184 MiB