Package: SpaNorm Version: 1.0.0 Command: /home/biocbuild/R/R/bin/R CMD check --install=check:SpaNorm.install-out.txt --library=/home/biocbuild/R/R/site-library --no-vignettes --timings SpaNorm_1.0.0.tar.gz StartedAt: 2025-01-31 10:36:11 -0000 (Fri, 31 Jan 2025) EndedAt: 2025-01-31 10:38:19 -0000 (Fri, 31 Jan 2025) EllapsedTime: 128.1 seconds RetCode: 0 Status: OK CheckDir: SpaNorm.Rcheck Warnings: 0