Package: SmartPhos Version: 1.0.0 Command: /Library/Frameworks/R.framework/Resources/bin/R CMD INSTALL SmartPhos StartedAt: 2025-11-17 17:59:34 -0500 (Mon, 17 Nov 2025) EndedAt: 2025-11-17 17:59:47 -0500 (Mon, 17 Nov 2025) EllapsedTime: 12.7 seconds RetCode: 0 Status: OK