Package: SmartPhos Version: 1.0.0 Command: /Library/Frameworks/R.framework/Resources/bin/R CMD build --keep-empty-dirs --no-resave-data SmartPhos StartedAt: 2025-11-18 01:05:14 -0500 (Tue, 18 Nov 2025) EndedAt: 2025-11-18 01:06:01 -0500 (Tue, 18 Nov 2025) EllapsedTime: 47.4 seconds RetCode: 0 Status: OK PackageFile: SmartPhos_1.0.0.tar.gz PackageFileSize: 20.22 MiB