Package: Site2Target Version: 1.2.0 Command: /home/biocbuild/bbs-3.22-bioc/R/bin/R CMD INSTALL Site2Target StartedAt: 2025-11-16 15:17:05 -0500 (Sun, 16 Nov 2025) EndedAt: 2025-11-16 15:17:07 -0500 (Sun, 16 Nov 2025) EllapsedTime: 2.4 seconds RetCode: 0 Status: OK