Package: SingleMoleculeFootprinting Version: 2.2.0 Command: /home/biocbuild/bbs-3.21-bioc/R/bin/R CMD build --keep-empty-dirs --no-resave-data SingleMoleculeFootprinting StartedAt: 2025-10-01 20:01:42 -0400 (Wed, 01 Oct 2025) EndedAt: 2025-10-01 20:04:33 -0400 (Wed, 01 Oct 2025) EllapsedTime: 171.2 seconds RetCode: 0 Status: OK PackageFile: SingleMoleculeFootprinting_2.2.0.tar.gz PackageFileSize: 3.855 MiB