Package: SingleCellSignalR Version: 1.20.0 Command: /Library/Frameworks/R.framework/Resources/bin/R CMD build --keep-empty-dirs --no-resave-data SingleCellSignalR StartedAt: 2025-05-22 22:34:20 -0400 (Thu, 22 May 2025) EndedAt: 2025-05-22 22:37:13 -0400 (Thu, 22 May 2025) EllapsedTime: 172.4 seconds RetCode: 0 Status: OK PackageFile: SingleCellSignalR_1.20.0.tar.gz PackageFileSize: 4.475 MiB