Package: SingleCellExperiment Version: 1.28.1 Command: /home/biocbuild/R/R/bin/R CMD check --install=check:SingleCellExperiment.install-out.txt --library=/home/biocbuild/R/R/site-library --no-vignettes --timings SingleCellExperiment_1.28.1.tar.gz StartedAt: 2025-01-31 10:29:57 -0000 (Fri, 31 Jan 2025) EndedAt: 2025-01-31 10:34:04 -0000 (Fri, 31 Jan 2025) EllapsedTime: 247.2 seconds RetCode: 0 Status: OK CheckDir: SingleCellExperiment.Rcheck Warnings: 0