Package: SimFFPE Version: 1.20.0 Command: chmod a+r SimFFPE -R && E:\biocbuild\bbs-3.21-bioc\R\bin\R.exe CMD build --keep-empty-dirs --no-resave-data SimFFPE StartedAt: 2025-08-14 22:16:21 -0400 (Thu, 14 Aug 2025) EndedAt: 2025-08-14 22:18:30 -0400 (Thu, 14 Aug 2025) EllapsedTime: 128.6 seconds RetCode: 0 Status: OK PackageFile: SimFFPE_1.20.0.tar.gz PackageFileSize: 750.4 KiB