Package: SimFFPE Version: 1.20.0 Command: rm -rf SimFFPE.buildbin-libdir && mkdir SimFFPE.buildbin-libdir && E:\biocbuild\bbs-3.21-bioc\R\bin\R.exe CMD INSTALL --build --library=SimFFPE.buildbin-libdir SimFFPE_1.20.0.tar.gz StartedAt: 2025-08-15 10:19:28 -0400 (Fri, 15 Aug 2025) EndedAt: 2025-08-15 10:19:50 -0400 (Fri, 15 Aug 2025) EllapsedTime: 21.2 seconds RetCode: 0 Status: OK PackageFile: SimFFPE_1.20.0.zip PackageFileSize: 802.3 KiB