Package: SimFFPE Version: 1.20.0 Command: /Library/Frameworks/R.framework/Resources/bin/R CMD INSTALL SimFFPE StartedAt: 2025-05-05 15:25:44 -0400 (Mon, 05 May 2025) EndedAt: 2025-05-05 15:26:15 -0400 (Mon, 05 May 2025) EllapsedTime: 30.5 seconds RetCode: 0 Status: OK