Package: SimFFPE Version: 1.20.0 Command: /Library/Frameworks/R.framework/Resources/bin/R CMD check --install=check:SimFFPE.install-out.txt --library=/Library/Frameworks/R.framework/Resources/library --no-vignettes --timings SimFFPE_1.20.0.tar.gz StartedAt: 2025-05-06 09:56:37 -0400 (Tue, 06 May 2025) EndedAt: 2025-05-06 10:05:33 -0400 (Tue, 06 May 2025) EllapsedTime: 535.9 seconds RetCode: 0 Status: OK CheckDir: SimFFPE.Rcheck Warnings: 0