Package: SimFFPE Version: 1.20.0 Command: /Library/Frameworks/R.framework/Resources/bin/R CMD build --keep-empty-dirs --no-resave-data SimFFPE StartedAt: 2025-05-05 22:26:37 -0400 (Mon, 05 May 2025) EndedAt: 2025-05-05 22:30:36 -0400 (Mon, 05 May 2025) EllapsedTime: 238.3 seconds RetCode: 0 Status: OK PackageFile: SimFFPE_1.20.0.tar.gz PackageFileSize: 748.4 KiB