Package: SimFFPE Version: 1.20.0 Command: rm -rf SimFFPE.buildbin-libdir && mkdir SimFFPE.buildbin-libdir && /Users/biocbuild/BBS/utils/build-universal.sh SimFFPE_1.20.0.tar.gz /Library/Frameworks/R.framework/Resources/bin/R SimFFPE.buildbin-libdir StartedAt: 2025-05-06 13:45:25 -0400 (Tue, 06 May 2025) EndedAt: 2025-05-06 13:46:10 -0400 (Tue, 06 May 2025) EllapsedTime: 44.6 seconds RetCode: 0 Status: OK PackageFile: SimFFPE_1.20.0.tgz PackageFileSize: 807.2 KiB