Package: SimFFPE Version: 1.20.0 Command: /home/biocbuild/R/R/bin/R CMD build --keep-empty-dirs --no-resave-data SimFFPE StartedAt: 2025-05-09 04:27:59 -0000 (Fri, 09 May 2025) EndedAt: 2025-05-09 04:30:21 -0000 (Fri, 09 May 2025) EllapsedTime: 141.1 seconds RetCode: 0 Status: OK PackageFile: SimFFPE_1.20.0.tar.gz PackageFileSize: 740.6 KiB