Package: SimFFPE Version: 1.20.0 Maintainer: Lanying Wei MaintainerEmail: lanying.wei at uni-muenster.de git_url: https://git.bioconductor.org/packages/SimFFPE git_branch: RELEASE_3_21 git_last_commit: 2786125 git_last_commit_date: 2025-04-15 11:53:54 -0400 (Tue, 15 Apr 2025)