Package: SimBu Version: 1.8.0 Command: /home/biocbuild/R/R/bin/R CMD check --install=check:SimBu.install-out.txt --library=/home/biocbuild/R/R/site-library --no-vignettes --timings SimBu_1.8.0.tar.gz StartedAt: 2025-01-31 10:28:07 -0000 (Fri, 31 Jan 2025) EndedAt: 2025-01-31 10:32:17 -0000 (Fri, 31 Jan 2025) EllapsedTime: 249.2 seconds RetCode: 0 Status: OK CheckDir: SimBu.Rcheck Warnings: 0